BEGIN:VCALENDAR
VERSION:2.0
PRODID:-//ChamberMaster//Event Calendar 2.0//EN
METHOD:PUBLISH
X-PUBLISHED-TTL:P3D
REFRESH-INTERVAL:P3D
CALSCALE:GREGORIAN
BEGIN:VEVENT
DTSTART:20110311T060000Z
DTEND:20110311T060000Z
X-MICROSOFT-CDO-ALLDAYEVENT:FALSE
SUMMARY:Gibby's Wine Den ~ Fridays@5 & 'Cause There Is A Need
DESCRIPTION:Come to Gibby's to celebrate the end of a long week! Tonight's live performer is "High and Outside"!Enjoy wines by the glass at our wine bar and a delicious selection from our Tidbits menu.\nAnd don't forget that tonight is 'Cause There Is A Need'\, where a portion of tonight's bar purchases will be donated to a very worthy local charity. Cheers!
X-ALT-DESC;FMTTYPE=text/html:Come to Gibby's to celebrate the end of a long week! Tonight's live performer is "High and Outside"!Enjoy wines by the glass at our wine bar and a delicious selection from our Tidbits menu.\nAnd don't forget that tonight is 'Cause There Is A Need'\, where a portion of tonight's bar purchases will be donated to a very worthy local charity. Cheers!\n\n
LOCATION:Gibby's Wine Den
UID:e.1902.177
SEQUENCE:3
DTSTAMP:20260423T154857Z
URL:https://business.bataviachamber.org/events/details/gibby-s-wine-den-fridays-5-cause-there-is-a-need-03-11-2011-177
END:VEVENT

END:VCALENDAR
