BEGIN:VCALENDAR
VERSION:2.0
PRODID:-//ChamberMaster//Event Calendar 2.0//EN
METHOD:PUBLISH
X-PUBLISHED-TTL:P3D
REFRESH-INTERVAL:P3D
CALSCALE:GREGORIAN
BEGIN:VEVENT
DTSTART:20120309T060000Z
DTEND:20120309T060000Z
X-MICROSOFT-CDO-ALLDAYEVENT:FALSE
SUMMARY:Gibby's Wine Den ~ Fridays@5 & 'Cause There Is A Need
DESCRIPTION:Enjoy a great Friday night at Gibby's with live music from "Random Acts of Jazz"\, wines by the glassand delicious selections from out Tidbits menu. Tonight is also 'Cause There Is A Need\, where a portion of tonights bar purchases will go to Alex's Army...helping the fight against cancer.
X-ALT-DESC;FMTTYPE=text/html:Enjoy a great Friday night at Gibby's with live music from "Random Acts of Jazz"\, wines by the glassand delicious selections from out Tidbits menu. Tonight is also 'Cause There Is A Need\, where a portion of tonights bar purchases will go to Alex's Army...helping the fight against cancer.
LOCATION:Gibby's Wine Den
UID:e.1902.520
SEQUENCE:3
DTSTAMP:20260422T192538Z
URL:https://business.bataviachamber.org/events/details/gibby-s-wine-den-fridays-5-cause-there-is-a-need-03-09-2012-520
END:VEVENT

END:VCALENDAR
