BEGIN:VCALENDAR
VERSION:2.0
PRODID:-//ChamberMaster//Event Calendar 2.0//EN
METHOD:PUBLISH
X-PUBLISHED-TTL:P3D
REFRESH-INTERVAL:P3D
CALSCALE:GREGORIAN
BEGIN:VEVENT
DTSTART:20110211T060000Z
DTEND:20110211T060000Z
X-MICROSOFT-CDO-ALLDAYEVENT:FALSE
SUMMARY:Gibby's Wine Den ~ Fridays@5 & 'Cause There Is A Need
DESCRIPTION:Stop by Gibby's Wine Bar this evening and relax with a glass of wine\, a selection from our Tidbits menu and enjoy the sounds of local musician\, Reiki Troubadour. This is also our 'Cause There Is a Need evening where a portion of proceeds from our bar go to a local charity.
X-ALT-DESC;FMTTYPE=text/html:Stop by Gibby's Wine Bar this evening and relax with a glass of wine\, a selection from our Tidbits menu and enjoy the sounds of local musician\, Reiki Troubadour. This is also our 'Cause There Is a Need evening where a portion of proceeds from our bar go to a local charity.
LOCATION:Gibby's Wine Den
UID:e.1902.123
SEQUENCE:3
DTSTAMP:20260423T170655Z
URL:https://business.bataviachamber.org/events/details/gibby-s-wine-den-fridays-5-cause-there-is-a-need-02-11-2011-123
END:VEVENT

END:VCALENDAR
