BEGIN:VCALENDAR
VERSION:2.0
PRODID:-//ChamberMaster//Event Calendar 2.0//EN
METHOD:PUBLISH
X-PUBLISHED-TTL:P3D
REFRESH-INTERVAL:P3D
CALSCALE:GREGORIAN
BEGIN:VEVENT
DTSTART:20120210T060000Z
DTEND:20120210T060000Z
X-MICROSOFT-CDO-ALLDAYEVENT:FALSE
SUMMARY:Gibby's Wine Den ~ Fridays@5 & 'Cause There Is A Need
DESCRIPTION:Call up your friends and meet at Gibby's tonight!  We'll have delicious wines by the glass\, small plates from our Tidbits menu and live entertainment from "Random Acts of Jazz"! Also tonight\, a portion of the bar's proceedes will be dontated to "Alex's Army"...joining the fight against cancer.  Seeyou later!
X-ALT-DESC;FMTTYPE=text/html:Call up your friends and meet at Gibby's tonight!  We'll have delicious wines by the glass\, small plates from our Tidbits menu and live entertainment from "Random Acts of Jazz"! Also tonight\, a portion of the bar's proceedes will be dontated to "Alex's Army"...joining the fight against cancer.  Seeyou later!
LOCATION:Gibby's Wine Den
UID:e.1902.489
SEQUENCE:3
DTSTAMP:20260422T221532Z
URL:https://business.bataviachamber.org/events/details/gibby-s-wine-den-fridays-5-cause-there-is-a-need-02-10-2012-489
END:VEVENT

END:VCALENDAR
