BEGIN:VCALENDAR
VERSION:2.0
PRODID:-//ChamberMaster//Event Calendar 2.0//EN
METHOD:PUBLISH
X-PUBLISHED-TTL:P3D
REFRESH-INTERVAL:P3D
CALSCALE:GREGORIAN
BEGIN:VEVENT
DTSTART:20110114T060000Z
DTEND:20110114T060000Z
X-MICROSOFT-CDO-ALLDAYEVENT:FALSE
SUMMARY:Gibby's Wine Den ~ Fridays@5 & 'Cause There Is A Need
DESCRIPTION:Gather at Gibby's tonight for wines by the glass paired with selections from our Tidbits menu and live entertainment from "Random Acts of Jazz". And don't forget that tonight is "Cause There Is A Need"\, where a portion of tonight's bar revenue will be dontated to a very worthy\, local cause. Get to Gibby's and have a great Friday night!
X-ALT-DESC;FMTTYPE=text/html:Gather at Gibby's tonight for wines by the glass paired with selections from our Tidbits menu and live entertainment from "Random Acts of Jazz". And don't forget that tonight is "Cause There Is A Need"\, where a portion of tonight's bar revenue will be dontated to a very worthy\, local cause. Get to Gibby's and have a great Friday night!
LOCATION:Gibby's Wine Den
UID:e.1902.114
SEQUENCE:3
DTSTAMP:20260419T231729Z
URL:https://business.bataviachamber.org/events/details/gibby-s-wine-den-fridays-5-cause-there-is-a-need-01-14-2011-114
END:VEVENT

END:VCALENDAR
