BEGIN:VCALENDAR
VERSION:2.0
PRODID:-//ChamberMaster//Event Calendar 2.0//EN
METHOD:PUBLISH
X-PUBLISHED-TTL:P3D
REFRESH-INTERVAL:P3D
CALSCALE:GREGORIAN
BEGIN:VEVENT
DTSTART:20110902T050000Z
DTEND:20110902T050000Z
X-MICROSOFT-CDO-ALLDAYEVENT:FALSE
SUMMARY:Gibby's Wine Den ~ Fridays@5\, Art By The Glass Opening and
DESCRIPTION:Get to Gibby's tonight for a great night of live music\, wine tasting and our September art exhibit opeining!  Taste some great new wines for your last of summer BBQ's\, catch up with friends and enjoya fun Friday at Gibby's!  There is a $5 tasting fee\, no fee to attend Fridays@5.
X-ALT-DESC;FMTTYPE=text/html:Get to Gibby's tonight for a great night of live music\, wine tasting and our September art exhibit opeining!  Taste some great new wines for your last of summer BBQ's\, catch up with friends and enjoya fun Friday at Gibby's!  There is a $5 tasting fee\, no fee to attend Fridays@5.
LOCATION:Gibby's Wine Den
UID:e.1902.362
SEQUENCE:3
DTSTAMP:20260423T053901Z
URL:https://business.bataviachamber.org/events/details/gibby-s-wine-den-fridays-5-art-by-the-glass-opening-and-09-02-2011-362
END:VEVENT

END:VCALENDAR
