BEGIN:VCALENDAR
VERSION:2.0
PRODID:-//ChamberMaster//Event Calendar 2.0//EN
METHOD:PUBLISH
X-PUBLISHED-TTL:P3D
REFRESH-INTERVAL:P3D
CALSCALE:GREGORIAN
BEGIN:VEVENT
DTSTART:20120203T060000Z
DTEND:20120203T060000Z
X-MICROSOFT-CDO-ALLDAYEVENT:FALSE
SUMMARY:Gibby's Wine Den ~ Fridays@5 & Art By The Glass Exhibit Ope
DESCRIPTION:We have live music tonight from James Schlcher!  Join us around the bar at Gibby's for wines by theglass and selections from the Tidbits menu while James plays all your favorites!  We also have our "Art By The Glass" art opening\, featuring oil paintings fro William Worcester.
X-ALT-DESC;FMTTYPE=text/html:We have live music tonight from James Schlcher!  Join us around the bar at Gibby's for wines by theglass and selections from the Tidbits menu while James plays all your favorites!  We also have our "Art By The Glass" art opening\, featuring oil paintings fro William Worcester.
LOCATION:Gibby's Wine Den
UID:e.1902.487
SEQUENCE:3
DTSTAMP:20260422T210424Z
URL:https://business.bataviachamber.org/events/details/gibby-s-wine-den-fridays-5-art-by-the-glass-exhibit-ope-02-03-2012-487
END:VEVENT

END:VCALENDAR
