BEGIN:VCALENDAR
VERSION:2.0
PRODID:-//ChamberMaster//Event Calendar 2.0//EN
METHOD:PUBLISH
X-PUBLISHED-TTL:P3D
REFRESH-INTERVAL:P3D
CALSCALE:GREGORIAN
BEGIN:VEVENT
DTSTART:20090925T050000Z
DTEND:20090925T050000Z
X-MICROSOFT-CDO-ALLDAYEVENT:FALSE
SUMMARY:Gibby's Wine Den ~ Fridays@5 and Twilight Tasting
DESCRIPTION:Meet us around the bar at Gibby's tonight for a twilight tasting and great entertainment!  Maybe you'll find a new favorite wine tonight as you taste a few of our selections.  Wine by the glass is also available as well as delicious nibbles from our Tidbits menu.  Enjoy the live music from The Wandering Endorphin as you browse the aisles full of new fall merchandise and wines!
X-ALT-DESC;FMTTYPE=text/html:Meet us around the bar at Gibby's tonight for a twilight tasting and great entertainment!  Maybe you'll find a new favorite wine tonight as you taste a few of our selections.  Wine by the glass is also available as well as delicious nibbles from our Tidbits menu.  Enjoy the live music from The Wandering Endorphin as you browse the aisles full of new fall merchandise and wines!
LOCATION:Gibby's Wine Den
UID:e.1902.1008
SEQUENCE:3
DTSTAMP:20260421T044624Z
URL:https://business.bataviachamber.org/events/details/gibby-s-wine-den-fridays-5-and-twilight-tasting-09-25-2009-1008
END:VEVENT

END:VCALENDAR
