BEGIN:VCALENDAR
VERSION:2.0
PRODID:-//ChamberMaster//Event Calendar 2.0//EN
METHOD:PUBLISH
X-PUBLISHED-TTL:P3D
REFRESH-INTERVAL:P3D
CALSCALE:GREGORIAN
BEGIN:VEVENT
DTSTART:20110708T050000Z
DTEND:20110708T050000Z
X-MICROSOFT-CDO-ALLDAYEVENT:FALSE
SUMMARY:Gibby's Wine Den ~ Fridays@5 and Art By The Glass Opening
DESCRIPTION:What a great Friday at Gibby's!  Enjoy live music tonight from "Random Acts of Jazz" and wine by theglass with our special Spanish Wine Menu in honor of Spain's "Run with the Bulls"!  We also welcomethis month's ART BY THE GLASS artist\, Lea Placek with her exhibit opening tonight!
X-ALT-DESC;FMTTYPE=text/html:What a great Friday at Gibby's!  Enjoy live music tonight from "Random Acts of Jazz" and wine by theglass with our special Spanish Wine Menu in honor of Spain's "Run with the Bulls"!  We also welcomethis month's ART BY THE GLASS artist\, Lea Placek with her exhibit opening tonight!
LOCATION:Gibby's Wine Den
UID:e.1902.293
SEQUENCE:3
DTSTAMP:20260419T133048Z
URL:https://business.bataviachamber.org/events/details/gibby-s-wine-den-fridays-5-and-art-by-the-glass-opening-07-08-2011-293
END:VEVENT

END:VCALENDAR
