BEGIN:VCALENDAR
VERSION:2.0
PRODID:-//ChamberMaster//Event Calendar 2.0//EN
METHOD:PUBLISH
X-PUBLISHED-TTL:P3D
REFRESH-INTERVAL:P3D
CALSCALE:GREGORIAN
BEGIN:VEVENT
DTSTART:20101001T050000Z
DTEND:20101001T050000Z
X-MICROSOFT-CDO-ALLDAYEVENT:FALSE
SUMMARY:Gibby's Wine Den ~ Fridays@5 and Art By The Glass Grand Ope
DESCRIPTION:Join us tonight for a very special event! Not only is it Fridays@5\, featuring live music from the Pedersen players\, but it is also the grand opening of ART BY THE GLASS\, an monthly rotating exhibit oflocal artists. Enjoy wine by the glass and delicious nibbles from our Tidbits menu\, while you takein the art\, chat with the artist\, shop the fall merchandise and have a wonderful night at Gibby's!
X-ALT-DESC;FMTTYPE=text/html:Join us tonight for a very special event! Not only is it Fridays@5\, featuring live music from the Pedersen players\, but it is also the grand opening of ART BY THE GLASS\, an monthly rotating exhibit oflocal artists. Enjoy wine by the glass and delicious nibbles from our Tidbits menu\, while you takein the art\, chat with the artist\, shop the fall merchandise and have a wonderful night at Gibby's!\n
LOCATION:Gibby's Wine Den
UID:e.1902.54
SEQUENCE:3
DTSTAMP:20260420T054859Z
URL:https://business.bataviachamber.org/events/details/gibby-s-wine-den-fridays-5-and-art-by-the-glass-grand-ope-10-01-2010-54
END:VEVENT

END:VCALENDAR
