BEGIN:VCALENDAR
VERSION:2.0
PRODID:-//ChamberMaster//Event Calendar 2.0//EN
METHOD:PUBLISH
X-PUBLISHED-TTL:P3D
REFRESH-INTERVAL:P3D
CALSCALE:GREGORIAN
BEGIN:VEVENT
DTSTART:20111216T060000Z
DTEND:20111216T060000Z
X-MICROSOFT-CDO-ALLDAYEVENT:FALSE
SUMMARY:Gibby's Wine Den ~ Fridays@5
DESCRIPTION:Bring your gift lists tonight and finish up that shopping while sipping delicious wines and enjoyingmusic from "Random Acts of Jazz".  What a great way to wrap up your holiday shopping!
X-ALT-DESC;FMTTYPE=text/html:Bring your gift lists tonight and finish up that shopping while sipping delicious wines and enjoyingmusic from "Random Acts of Jazz".  What a great way to wrap up your holiday shopping!
LOCATION:Gibby's Wine Den
UID:e.1902.445
SEQUENCE:3
DTSTAMP:20260423T003437Z
URL:https://business.bataviachamber.org/events/details/gibby-s-wine-den-fridays-5-12-16-2011-445
END:VEVENT

END:VCALENDAR
