BEGIN:VCALENDAR
VERSION:2.0
PRODID:-//ChamberMaster//Event Calendar 2.0//EN
METHOD:PUBLISH
X-PUBLISHED-TTL:P3D
REFRESH-INTERVAL:P3D
CALSCALE:GREGORIAN
BEGIN:VEVENT
DTSTART:20091127T060000Z
DTEND:20091127T060000Z
X-MICROSOFT-CDO-ALLDAYEVENT:FALSE
SUMMARY:Gibby's Wine Den ~ Fridays@5
DESCRIPTION:Meet your friends around the bar at Gibby's tonight for a relaxing end to your bustling holiday shopping day!  The Mockturtlenecks  will provide the musical backdrop as you sip wines by the glass andtry something new from our Tidbits menu. Wander through the aisles to find the perfect wine for theupcoming holidays and to pick up a gift or two!  The expert staff at Gibby's is here to help make your holidays easy
X-ALT-DESC;FMTTYPE=text/html:Meet your friends around the bar at Gibby's tonight for a relaxing end to your bustling holiday shopping day!  The Mockturtlenecks  will provide the musical backdrop as you sip wines by the glass andtry something new from our Tidbits menu. Wander through the aisles to find the perfect wine for theupcoming holidays and to pick up a gift or two!  The expert staff at Gibby's is here to help make your holidays easy
LOCATION:Gibby's Wine Den
UID:e.1902.1031
SEQUENCE:3
DTSTAMP:20260424T193002Z
URL:https://business.bataviachamber.org/events/details/gibby-s-wine-den-fridays-5-11-27-2009-1031
END:VEVENT

END:VCALENDAR
