BEGIN:VCALENDAR
VERSION:2.0
PRODID:-//ChamberMaster//Event Calendar 2.0//EN
METHOD:PUBLISH
X-PUBLISHED-TTL:P3D
REFRESH-INTERVAL:P3D
CALSCALE:GREGORIAN
BEGIN:VEVENT
DTSTART:20111125T060000Z
DTEND:20111125T060000Z
X-MICROSOFT-CDO-ALLDAYEVENT:FALSE
SUMMARY:Gibby's Wine Den ~ Fridays@5
DESCRIPTION:After a long day of shopping\, cleaning up after your Thanksgiving celebration or sleeping off the big meal...come to Gibby's for some fun!  Live entertainment from "Red Tie Trio"\, wines by the glass\,beautiful holiday decor and more shopping!  Cross off the your gift list at Gibby's tonight while you sip your wine and tap your toes! We encourage dancing in the aisles while doing your holiday shopping ~ where else can you sip\, swirl and shop?  Cheers!
X-ALT-DESC;FMTTYPE=text/html:After a long day of shopping\, cleaning up after your Thanksgiving celebration or sleeping off the big meal...come to Gibby's for some fun!  Live entertainment from "Red Tie Trio"\, wines by the glass\,beautiful holiday decor and more shopping!  Cross off the your gift list at Gibby's tonight while you sip your wine and tap your toes! We encourage dancing in the aisles while doing your holiday shopping ~ where else can you sip\, swirl and shop?  Cheers!
LOCATION:Gibby's Wine Den
UID:e.1902.437
SEQUENCE:3
DTSTAMP:20260423T020729Z
URL:https://business.bataviachamber.org/events/details/gibby-s-wine-den-fridays-5-11-25-2011-437
END:VEVENT

END:VCALENDAR
