BEGIN:VCALENDAR
VERSION:2.0
PRODID:-//ChamberMaster//Event Calendar 2.0//EN
METHOD:PUBLISH
X-PUBLISHED-TTL:P3D
REFRESH-INTERVAL:P3D
CALSCALE:GREGORIAN
BEGIN:VEVENT
DTSTART:20111118T060000Z
DTEND:20111118T060000Z
X-MICROSOFT-CDO-ALLDAYEVENT:FALSE
SUMMARY:Gibby's Wine Den ~ Fridays@5
DESCRIPTION:Join your friends at Gibby's Wine Bar tonight for wines by the glass\, a bite to eat from the Tidbitsmenu and live entertainment from "Random Acts of Jazz".
X-ALT-DESC;FMTTYPE=text/html:Join your friends at Gibby's Wine Bar tonight for wines by the glass\, a bite to eat from the Tidbitsmenu and live entertainment from "Random Acts of Jazz".
LOCATION:Gibby's Wine Den
UID:e.1902.435
SEQUENCE:3
DTSTAMP:20260423T020718Z
URL:https://business.bataviachamber.org/events/details/gibby-s-wine-den-fridays-5-11-18-2011-435
END:VEVENT

END:VCALENDAR
