BEGIN:VCALENDAR
VERSION:2.0
PRODID:-//ChamberMaster//Event Calendar 2.0//EN
METHOD:PUBLISH
X-PUBLISHED-TTL:P3D
REFRESH-INTERVAL:P3D
CALSCALE:GREGORIAN
BEGIN:VEVENT
DTSTART:20111104T050000Z
DTEND:20111104T050000Z
X-MICROSOFT-CDO-ALLDAYEVENT:FALSE
SUMMARY:Gibby's Wine Den ~ Fridays@5
DESCRIPTION:Fridays are fun at Gibby's!  Enjoy live music from "Sam & Rachel's String Duo"\, delicious wines by the glass and our November Art By The Glass exhibit opening!  Stroll through the holiday decor and find inspiration for your home and gifts for everyone on your list!
X-ALT-DESC;FMTTYPE=text/html:Fridays are fun at Gibby's!  Enjoy live music from "Sam & Rachel's String Duo"\, delicious wines by the glass and our November Art By The Glass exhibit opening!  Stroll through the holiday decor and find inspiration for your home and gifts for everyone on your list!
LOCATION:Gibby's Wine Den
UID:e.1902.430
SEQUENCE:3
DTSTAMP:20260423T020730Z
URL:https://business.bataviachamber.org/events/details/gibby-s-wine-den-fridays-5-11-04-2011-430
END:VEVENT

END:VCALENDAR
