BEGIN:VCALENDAR
VERSION:2.0
PRODID:-//ChamberMaster//Event Calendar 2.0//EN
METHOD:PUBLISH
X-PUBLISHED-TTL:P3D
REFRESH-INTERVAL:P3D
CALSCALE:GREGORIAN
BEGIN:VEVENT
DTSTART:20091030T050000Z
DTEND:20091030T050000Z
X-MICROSOFT-CDO-ALLDAYEVENT:FALSE
SUMMARY:Gibby's Wine Den ~ Fridays@5
DESCRIPTION:HIde from the goblins at Gibby's tonight!  Meet your friends around the bar at Gibby's  for a greatevening with live music from Random Acts of Jazz\, delicious wines by the glass and tasty treats fromour Tidbits menu.  Explore aisles full of fabulous Fall home accessories and Halloween decor
X-ALT-DESC;FMTTYPE=text/html:HIde from the goblins at Gibby's tonight!  Meet your friends around the bar at Gibby's  for a greatevening with live music from Random Acts of Jazz\, delicious wines by the glass and tasty treats fromour Tidbits menu.  Explore aisles full of fabulous Fall home accessories and Halloween decor
LOCATION:Gibby's Wine Den
UID:e.1902.1026
SEQUENCE:3
DTSTAMP:20260424T212722Z
URL:https://business.bataviachamber.org/events/details/gibby-s-wine-den-fridays-5-10-30-2009-1026
END:VEVENT

END:VCALENDAR
