BEGIN:VCALENDAR
VERSION:2.0
PRODID:-//ChamberMaster//Event Calendar 2.0//EN
METHOD:PUBLISH
X-PUBLISHED-TTL:P3D
REFRESH-INTERVAL:P3D
CALSCALE:GREGORIAN
BEGIN:VEVENT
DTSTART:20091023T050000Z
DTEND:20091023T050000Z
X-MICROSOFT-CDO-ALLDAYEVENT:FALSE
SUMMARY:Gibby's Wine Den ~ Fridays@5
DESCRIPTION:Join us for a relaxing Friday around the bar at Gibby's.  Enjoy listening to the Pederson Players\, while sipping wines by the glass and enjoying tempting tastes from our Tidbits menu.   Are you attending a Halloween Party?  Then you'll need a hostess gift!  There's a scary selection of haunting Halloween treats to choose from at Gibby's!
X-ALT-DESC;FMTTYPE=text/html:Join us for a relaxing Friday around the bar at Gibby's.  Enjoy listening to the Pederson Players\, while sipping wines by the glass and enjoying tempting tastes from our Tidbits menu.   Are you attending a Halloween Party?  Then you'll need a hostess gift!  There's a scary selection of haunting Halloween treats to choose from at Gibby's!\n\n\n
LOCATION:Gibby's Wine Den
UID:e.1902.1025
SEQUENCE:3
DTSTAMP:20260424T211751Z
URL:https://business.bataviachamber.org/events/details/gibby-s-wine-den-fridays-5-10-23-2009-1025
END:VEVENT

END:VCALENDAR
