BEGIN:VCALENDAR
VERSION:2.0
PRODID:-//ChamberMaster//Event Calendar 2.0//EN
METHOD:PUBLISH
X-PUBLISHED-TTL:P3D
REFRESH-INTERVAL:P3D
CALSCALE:GREGORIAN
BEGIN:VEVENT
DTSTART:20111021T050000Z
DTEND:20111021T050000Z
X-MICROSOFT-CDO-ALLDAYEVENT:FALSE
SUMMARY:Gibby's Wine Den ~ Fridays@5
DESCRIPTION:Get the gang together tonight at Gibby's to enjoy a fun Friday of wines by the glass and live musicfrom James Schlicher!  Dance in the aisles while searching through the hundreds of wines from aroundthe world\, shopping for new home decor or taking in our Art By The Glass exibit.  The fun is alwaysUNCORKED at Gibby's!
X-ALT-DESC;FMTTYPE=text/html:Get the gang together tonight at Gibby's to enjoy a fun Friday of wines by the glass and live musicfrom James Schlicher!  Dance in the aisles while searching through the hundreds of wines from aroundthe world\, shopping for new home decor or taking in our Art By The Glass exibit.  The fun is alwaysUNCORKED at Gibby's!
LOCATION:Gibby's Wine Den
UID:e.1902.403
SEQUENCE:3
DTSTAMP:20260423T034621Z
URL:https://business.bataviachamber.org/events/details/gibby-s-wine-den-fridays-5-10-21-2011-403
END:VEVENT

END:VCALENDAR
