BEGIN:VCALENDAR
VERSION:2.0
PRODID:-//ChamberMaster//Event Calendar 2.0//EN
METHOD:PUBLISH
X-PUBLISHED-TTL:P3D
REFRESH-INTERVAL:P3D
CALSCALE:GREGORIAN
BEGIN:VEVENT
DTSTART:20111007T050000Z
DTEND:20111007T050000Z
X-MICROSOFT-CDO-ALLDAYEVENT:FALSE
SUMMARY:Gibby's Wine Den ~ Fridays@5
DESCRIPTION:Call up some friends and meet at Gibby's tonight!  Live music from "Reiki Troubadour"\, wines by theglass and our October Art By The Glass exhibit opening all deliver a fantastic Friday night!
X-ALT-DESC;FMTTYPE=text/html:Call up some friends and meet at Gibby's tonight!  Live music from "Reiki Troubadour"\, wines by theglass and our October Art By The Glass exhibit opening all deliver a fantastic Friday night!
LOCATION:Gibby's Wine Den
UID:e.1902.407
SEQUENCE:3
DTSTAMP:20260423T034530Z
URL:https://business.bataviachamber.org/events/details/gibby-s-wine-den-fridays-5-10-07-2011-407
END:VEVENT

END:VCALENDAR
