BEGIN:VCALENDAR
VERSION:2.0
PRODID:-//ChamberMaster//Event Calendar 2.0//EN
METHOD:PUBLISH
X-PUBLISHED-TTL:P3D
REFRESH-INTERVAL:P3D
CALSCALE:GREGORIAN
BEGIN:VEVENT
DTSTART:20091002T050000Z
DTEND:20091002T050000Z
X-MICROSOFT-CDO-ALLDAYEVENT:FALSE
SUMMARY:Gibby's Wine Den ~ Fridays@5
DESCRIPTION:Grab some friends and meet us at Gibby's for a great Friday night!  James Schlicher will be performing while you sip on wines by the glass or share a bottle of your favorite!  Taste something new fromour Tidbits menu and wander through the aisles\, full of Halloween scare and beautiful fall items for your home.  Great hostess gift ideas too!\n\nThe music starts at 6\, but Gibby's bar is always uncorked!  See you there!
X-ALT-DESC;FMTTYPE=text/html:Grab some friends and meet us at Gibby's for a great Friday night!  James Schlicher will be performing while you sip on wines by the glass or share a bottle of your favorite!  Taste something new fromour Tidbits menu and wander through the aisles\, full of Halloween scare and beautiful fall items for your home.  Great hostess gift ideas too!\n\nThe music starts at 6\, but Gibby's bar is always uncorked!  See you there!\n
LOCATION:Gibby's Wine Den
UID:e.1902.1016
SEQUENCE:3
DTSTAMP:20260424T211739Z
URL:https://business.bataviachamber.org/events/details/gibby-s-wine-den-fridays-5-10-02-2009-1016
END:VEVENT

END:VCALENDAR
