BEGIN:VCALENDAR
VERSION:2.0
PRODID:-//ChamberMaster//Event Calendar 2.0//EN
METHOD:PUBLISH
X-PUBLISHED-TTL:P3D
REFRESH-INTERVAL:P3D
CALSCALE:GREGORIAN
BEGIN:VEVENT
DTSTART:20110930T050000Z
DTEND:20110930T050000Z
X-MICROSOFT-CDO-ALLDAYEVENT:FALSE
SUMMARY:Gibby's Wine Den ~ Fridays@5
DESCRIPTION:We have a great evening planned for you tonight! Live music from "Sam  & Rachel\, String Duo"\, delicious wines by the glass and delicious selection from the "Tidbits" menu\, including wonderful artisancheese to pair perfectly with your wine!  Call your friends and meet at Gibby's Wine Bar tonight!
X-ALT-DESC;FMTTYPE=text/html:We have a great evening planned for you tonight! Live music from "Sam  & Rachel\, String Duo"\, delicious wines by the glass and delicious selection from the "Tidbits" menu\, including wonderful artisancheese to pair perfectly with your wine!  Call your friends and meet at Gibby's Wine Bar tonight!
LOCATION:Gibby's Wine Den
UID:e.1902.376
SEQUENCE:3
DTSTAMP:20260423T053609Z
URL:https://business.bataviachamber.org/events/details/gibby-s-wine-den-fridays-5-09-30-2011-376
END:VEVENT

END:VCALENDAR
