BEGIN:VCALENDAR
VERSION:2.0
PRODID:-//ChamberMaster//Event Calendar 2.0//EN
METHOD:PUBLISH
X-PUBLISHED-TTL:P3D
REFRESH-INTERVAL:P3D
CALSCALE:GREGORIAN
BEGIN:VEVENT
DTSTART:20100924T050000Z
DTEND:20100924T050000Z
X-MICROSOFT-CDO-ALLDAYEVENT:FALSE
SUMMARY:Gibby's Wine Den ~ Fridays@5
DESCRIPTION:Join us for a great night of live entertainment by "Denny King". Enjoy a glass of wine\, or share a bottle with friends along with a selection from our Tidbits menu. Wander through the aisles of wine from around the world\, accessories and home decor - newly redone for the Autumn season. A great Friday night at Gibby's!
X-ALT-DESC;FMTTYPE=text/html:Join us for a great night of live entertainment by "Denny King". Enjoy a glass of wine\, or share a bottle with friends along with a selection from our Tidbits menu. Wander through the aisles of wine from around the world\, accessories and home decor - newly redone for the Autumn season. A great Friday night at Gibby's!   \n\n
LOCATION:Gibby's Wine Den
UID:e.1902.48
SEQUENCE:3
DTSTAMP:20260424T013902Z
URL:https://business.bataviachamber.org/events/details/gibby-s-wine-den-fridays-5-09-24-2010-48
END:VEVENT

END:VCALENDAR
