BEGIN:VCALENDAR
VERSION:2.0
PRODID:-//ChamberMaster//Event Calendar 2.0//EN
METHOD:PUBLISH
X-PUBLISHED-TTL:P3D
REFRESH-INTERVAL:P3D
CALSCALE:GREGORIAN
BEGIN:VEVENT
DTSTART:20110923T050000Z
DTEND:20110923T050000Z
X-MICROSOFT-CDO-ALLDAYEVENT:FALSE
SUMMARY:Gibby's Wine Den ~ Fridays@5
DESCRIPTION:Friday night at Gibby's is the place to be!  Live entertainment from "Random Acts of Jazz"\, delicious wines by the glass\, selections from the "Tidbits" menu\, our Art By The Glass" exhibit and great shopping all make up a fun Friday night!  Call your friends and meet at Gibby's Wine Bar tonight!
X-ALT-DESC;FMTTYPE=text/html:Friday night at Gibby's is the place to be!  Live entertainment from "Random Acts of Jazz"\, delicious wines by the glass\, selections from the "Tidbits" menu\, our Art By The Glass" exhibit and great shopping all make up a fun Friday night!  Call your friends and meet at Gibby's Wine Bar tonight!
LOCATION:Gibby's Wine Den
UID:e.1902.374
SEQUENCE:3
DTSTAMP:20260423T053608Z
URL:https://business.bataviachamber.org/events/details/gibby-s-wine-den-fridays-5-09-23-2011-374
END:VEVENT

END:VCALENDAR
