BEGIN:VCALENDAR
VERSION:2.0
PRODID:-//ChamberMaster//Event Calendar 2.0//EN
METHOD:PUBLISH
X-PUBLISHED-TTL:P3D
REFRESH-INTERVAL:P3D
CALSCALE:GREGORIAN
BEGIN:VEVENT
DTSTART:20090918T050000Z
DTEND:20090918T050000Z
X-MICROSOFT-CDO-ALLDAYEVENT:FALSE
SUMMARY:Gibby's Wine Den ~ Fridays@5
DESCRIPTION:Join us tonight for another great evening around the bar at Gibby's!  Tonight's live performers willbe Random Acts of Jazz!  Enjoy wine by the glass and delicious bites from our Tidbits menu\, while you browse through the new Fall merchandise and aisle after aisle of wines - some old favorites and some new favorites\, waiting to be discovered.
X-ALT-DESC;FMTTYPE=text/html:Join us tonight for another great evening around the bar at Gibby's!  Tonight's live performers willbe Random Acts of Jazz!  Enjoy wine by the glass and delicious bites from our Tidbits menu\, while you browse through the new Fall merchandise and aisle after aisle of wines - some old favorites and some new favorites\, waiting to be discovered. \n
LOCATION:Gibby's Wine Den
UID:e.1902.1005
SEQUENCE:3
DTSTAMP:20260424T230519Z
URL:https://business.bataviachamber.org/events/details/gibby-s-wine-den-fridays-5-09-18-2009-1005
END:VEVENT

END:VCALENDAR
