BEGIN:VCALENDAR
VERSION:2.0
PRODID:-//ChamberMaster//Event Calendar 2.0//EN
METHOD:PUBLISH
X-PUBLISHED-TTL:P3D
REFRESH-INTERVAL:P3D
CALSCALE:GREGORIAN
BEGIN:VEVENT
DTSTART:20110916T050000Z
DTEND:20110916T050000Z
X-MICROSOFT-CDO-ALLDAYEVENT:FALSE
SUMMARY:Gibby's Wine Den ~ Fridays@5
DESCRIPTION:Fridays at Gibby's are a great night to meet up with friends\, or to enjoy an evening for two!  We have live music tonight from James Schlicher\, wines by the glass\, delicious selections from the "Tidbits" menu and our Art By The Glass exhibit!
X-ALT-DESC;FMTTYPE=text/html:Fridays at Gibby's are a great night to meet up with friends\, or to enjoy an evening for two!  We have live music tonight from James Schlicher\, wines by the glass\, delicious selections from the "Tidbits" menu and our Art By The Glass exhibit!
LOCATION:Gibby's Wine Den
UID:e.1902.373
SEQUENCE:3
DTSTAMP:20260423T053659Z
URL:https://business.bataviachamber.org/events/details/gibby-s-wine-den-fridays-5-09-16-2011-373
END:VEVENT

END:VCALENDAR
