BEGIN:VCALENDAR
VERSION:2.0
PRODID:-//ChamberMaster//Event Calendar 2.0//EN
METHOD:PUBLISH
X-PUBLISHED-TTL:P3D
REFRESH-INTERVAL:P3D
CALSCALE:GREGORIAN
BEGIN:VEVENT
DTSTART:20100910T050000Z
DTEND:20100910T050000Z
X-MICROSOFT-CDO-ALLDAYEVENT:FALSE
SUMMARY:Gibby's Wine Den ~ Fridays@5
DESCRIPTION:Join us for a great night of live entertainment by "Pedersen Players". Enjoy a glass of wine\, or share a bottle with friends along with a selection from our Tidbits menu. Wander through the aisles ofwine from around the world\, accessories and home decor - newly redone for the Autumn season. A greatFriday night at Gibby's!
X-ALT-DESC;FMTTYPE=text/html:Join us for a great night of live entertainment by "Pedersen Players". Enjoy a glass of wine\, or share a bottle with friends along with a selection from our Tidbits menu. Wander through the aisles ofwine from around the world\, accessories and home decor - newly redone for the Autumn season. A greatFriday night at Gibby's!
LOCATION:Gibby's Wine Den
UID:e.1902.34
SEQUENCE:3
DTSTAMP:20260420T073213Z
URL:https://business.bataviachamber.org/events/details/gibby-s-wine-den-fridays-5-09-10-2010-34
END:VEVENT

END:VCALENDAR
