BEGIN:VCALENDAR
VERSION:2.0
PRODID:-//ChamberMaster//Event Calendar 2.0//EN
METHOD:PUBLISH
X-PUBLISHED-TTL:P3D
REFRESH-INTERVAL:P3D
CALSCALE:GREGORIAN
BEGIN:VEVENT
DTSTART:20110826T050000Z
DTEND:20110826T050000Z
X-MICROSOFT-CDO-ALLDAYEVENT:FALSE
SUMMARY:Gibby's Wine Den ~ Fridays@5
DESCRIPTION:Enjoy a great Friday at Gibby's Wine Bar!  We have live music tonight featuring "Random Acts of Jazz" as well as a special Fondue menu!  Grab your friends and meet at Gibby's tonight!
X-ALT-DESC;FMTTYPE=text/html:Enjoy a great Friday at Gibby's Wine Bar!  We have live music tonight featuring "Random Acts of Jazz" as well as a special Fondue menu!  Grab your friends and meet at Gibby's tonight!
LOCATION:Gibby's Wine Den
UID:e.1902.344
SEQUENCE:3
DTSTAMP:20260423T072818Z
URL:https://business.bataviachamber.org/events/details/gibby-s-wine-den-fridays-5-08-26-2011-344
END:VEVENT

END:VCALENDAR
