BEGIN:VCALENDAR
VERSION:2.0
PRODID:-//ChamberMaster//Event Calendar 2.0//EN
METHOD:PUBLISH
X-PUBLISHED-TTL:P3D
REFRESH-INTERVAL:P3D
CALSCALE:GREGORIAN
BEGIN:VEVENT
DTSTART:20110812T050000Z
DTEND:20110812T050000Z
X-MICROSOFT-CDO-ALLDAYEVENT:FALSE
SUMMARY:Gibby's Wine Den ~ Fridays@5
DESCRIPTION:Gather with friends tonight around Gibby's wine bar for a glass of wine\, a selection from our seasonal Tidbit's Menu and enjoy live music from James Schlicher.  Our August art exhibit is on display aswell as seasonal home decor and summer entertaining must haves!
X-ALT-DESC;FMTTYPE=text/html:Gather with friends tonight around Gibby's wine bar for a glass of wine\, a selection from our seasonal Tidbit's Menu and enjoy live music from James Schlicher.  Our August art exhibit is on display aswell as seasonal home decor and summer entertaining must haves!
LOCATION:Gibby's Wine Den
UID:e.1902.343
SEQUENCE:3
DTSTAMP:20260423T072817Z
URL:https://business.bataviachamber.org/events/details/gibby-s-wine-den-fridays-5-08-12-2011-343
END:VEVENT

END:VCALENDAR
