BEGIN:VCALENDAR
VERSION:2.0
PRODID:-//ChamberMaster//Event Calendar 2.0//EN
METHOD:PUBLISH
X-PUBLISHED-TTL:P3D
REFRESH-INTERVAL:P3D
CALSCALE:GREGORIAN
BEGIN:VEVENT
DTSTART:20090731T050000Z
DTEND:20090731T050000Z
X-MICROSOFT-CDO-ALLDAYEVENT:FALSE
SUMMARY:Gibby's Wine Den ~ Fridays@5
DESCRIPTION:Join us around the bar at Gibby's tonight for a great evening with live musical entertainment from Red Tie Trio. Wines by the glass and tasty treats from our tidbits menu will be available. Roam through the aisles and tables\, which are fully loaded with summer fun\, treats\, decor and gift ideas! Themusic starts at 6\, but the bar is always uncorked! Grab your friends for a great Friday at Gibby's.
X-ALT-DESC;FMTTYPE=text/html:Join us around the bar at Gibby's tonight for a great evening with live musical entertainment from Red Tie Trio. Wines by the glass and tasty treats from our tidbits menu will be available. Roam through the aisles and tables\, which are fully loaded with summer fun\, treats\, decor and gift ideas! Themusic starts at 6\, but the bar is always uncorked! Grab your friends for a great Friday at Gibby's.\n
LOCATION:Gibby's Wine Den
UID:e.1902.969
SEQUENCE:3
DTSTAMP:20260425T022353Z
URL:https://business.bataviachamber.org/events/details/gibby-s-wine-den-fridays-5-07-31-2009-969
END:VEVENT

END:VCALENDAR
