BEGIN:VCALENDAR
VERSION:2.0
PRODID:-//ChamberMaster//Event Calendar 2.0//EN
METHOD:PUBLISH
X-PUBLISHED-TTL:P3D
REFRESH-INTERVAL:P3D
CALSCALE:GREGORIAN
BEGIN:VEVENT
DTSTART:20110729T050000Z
DTEND:20110729T050000Z
X-MICROSOFT-CDO-ALLDAYEVENT:FALSE
SUMMARY:Gibby's Wine Den ~ Fridays@5
DESCRIPTION:Call up some friends and meet at Gibby's tonight!  Enjoy wine by the glass or share a bottle!  We have live music tonight from James Schlicher\, and our July Art by The Glass Exhibit!
X-ALT-DESC;FMTTYPE=text/html:Call up some friends and meet at Gibby's tonight!  Enjoy wine by the glass or share a bottle!  We have live music tonight from James Schlicher\, and our July Art by The Glass Exhibit!
LOCATION:Gibby's Wine Den
UID:e.1902.299
SEQUENCE:3
DTSTAMP:20260423T090531Z
URL:https://business.bataviachamber.org/events/details/gibby-s-wine-den-fridays-5-07-29-2011-299
END:VEVENT

END:VCALENDAR
