BEGIN:VCALENDAR
VERSION:2.0
PRODID:-//ChamberMaster//Event Calendar 2.0//EN
METHOD:PUBLISH
X-PUBLISHED-TTL:P3D
REFRESH-INTERVAL:P3D
CALSCALE:GREGORIAN
BEGIN:VEVENT
DTSTART:20090724T050000Z
DTEND:20090724T050000Z
X-MICROSOFT-CDO-ALLDAYEVENT:FALSE
SUMMARY:Gibby's Wine Den ~ Fridays@5
DESCRIPTION:Join us tonight for a great evening of live entertainment from James Schlicher\, wines by the glass and tasty tidbits. Roam through the aisles and tables\, fully loaded with summer decor\, treats and great gift ideas! The music starts at 6\, but the bar is always uncorked! Grab your friends for a greatFriday at Gibby's!
X-ALT-DESC;FMTTYPE=text/html:Join us tonight for a great evening of live entertainment from James Schlicher\, wines by the glass and tasty tidbits. Roam through the aisles and tables\, fully loaded with summer decor\, treats and great gift ideas! The music starts at 6\, but the bar is always uncorked! Grab your friends for a greatFriday at Gibby's!\n
LOCATION:Gibby's Wine Den
UID:e.1902.968
SEQUENCE:3
DTSTAMP:20260425T022017Z
URL:https://business.bataviachamber.org/events/details/gibby-s-wine-den-fridays-5-07-24-2009-968
END:VEVENT

END:VCALENDAR
