BEGIN:VCALENDAR
VERSION:2.0
PRODID:-//ChamberMaster//Event Calendar 2.0//EN
METHOD:PUBLISH
X-PUBLISHED-TTL:P3D
REFRESH-INTERVAL:P3D
CALSCALE:GREGORIAN
BEGIN:VEVENT
DTSTART:20110715T050000Z
DTEND:20110715T050000Z
X-MICROSOFT-CDO-ALLDAYEVENT:FALSE
SUMMARY:Gibby's Wine Den ~ Fridays@5
DESCRIPTION:Join us for a great night with live entertainment from "Red Tie Trio"\, excellent wines by the glassand delicious selections from our Tidbits Menu.  Wander through the aisles of wines from around theworld and enjoy our July Art By The Glass exhibit!  Fridays are fun at Gibby's!
X-ALT-DESC;FMTTYPE=text/html:Join us for a great night with live entertainment from "Red Tie Trio"\, excellent wines by the glassand delicious selections from our Tidbits Menu.  Wander through the aisles of wines from around theworld and enjoy our July Art By The Glass exhibit!  Fridays are fun at Gibby's!
LOCATION:Gibby's Wine Den
UID:e.1902.296
SEQUENCE:3
DTSTAMP:20260423T090541Z
URL:https://business.bataviachamber.org/events/details/gibby-s-wine-den-fridays-5-07-15-2011-296
END:VEVENT

END:VCALENDAR
