BEGIN:VCALENDAR
VERSION:2.0
PRODID:-//ChamberMaster//Event Calendar 2.0//EN
METHOD:PUBLISH
X-PUBLISHED-TTL:P3D
REFRESH-INTERVAL:P3D
CALSCALE:GREGORIAN
BEGIN:VEVENT
DTSTART:20090703T050000Z
DTEND:20090703T050000Z
X-MICROSOFT-CDO-ALLDAYEVENT:FALSE
SUMMARY:Gibby's Wine Den ~ Fridays@5
DESCRIPTION:Come to Gibby's and relax tonight before the big Independence Day festivities! Enjoy delicious winesby the glass and scrumptious tidbits. Roam through the aisles and tables all set with great summerdecor\, treats and gift ideas. Are you going to a party this weekend? You'll need a hostess gift...pick one up tonight while enjoying your Friday at Gibby's!
X-ALT-DESC;FMTTYPE=text/html:Come to Gibby's and relax tonight before the big Independence Day festivities! Enjoy delicious winesby the glass and scrumptious tidbits. Roam through the aisles and tables all set with great summerdecor\, treats and gift ideas. Are you going to a party this weekend? You'll need a hostess gift...pick one up tonight while enjoying your Friday at Gibby's!\n
LOCATION:Gibby's Wine Den
UID:e.1902.963
SEQUENCE:3
DTSTAMP:20260425T022125Z
URL:https://business.bataviachamber.org/events/details/gibby-s-wine-den-fridays-5-07-03-2009-963
END:VEVENT

END:VCALENDAR
