BEGIN:VCALENDAR
VERSION:2.0
PRODID:-//ChamberMaster//Event Calendar 2.0//EN
METHOD:PUBLISH
X-PUBLISHED-TTL:P3D
REFRESH-INTERVAL:P3D
CALSCALE:GREGORIAN
BEGIN:VEVENT
DTSTART:20110617T050000Z
DTEND:20110617T050000Z
X-MICROSOFT-CDO-ALLDAYEVENT:FALSE
SUMMARY:Gibby's Wine Den ~ Fridays@5
DESCRIPTION:Call up some friends and catch up at Gibby's tonight!  Enjoy wines by the glass and live entertainment from "Red Tie Trio".  Wander through the aisles of wines from around the world and enjoy our Juneart exhibit.  Fridays are fun at Gibby's!
X-ALT-DESC;FMTTYPE=text/html:Call up some friends and catch up at Gibby's tonight!  Enjoy wines by the glass and live entertainment from "Red Tie Trio".  Wander through the aisles of wines from around the world and enjoy our Juneart exhibit.  Fridays are fun at Gibby's!
LOCATION:Gibby's Wine Den
UID:e.1902.266
SEQUENCE:3
DTSTAMP:20260423T105007Z
URL:https://business.bataviachamber.org/events/details/gibby-s-wine-den-fridays-5-06-17-2011-266
END:VEVENT

END:VCALENDAR
