BEGIN:VCALENDAR
VERSION:2.0
PRODID:-//ChamberMaster//Event Calendar 2.0//EN
METHOD:PUBLISH
X-PUBLISHED-TTL:P3D
REFRESH-INTERVAL:P3D
CALSCALE:GREGORIAN
BEGIN:VEVENT
DTSTART:20110603T050000Z
DTEND:20110603T050000Z
X-MICROSOFT-CDO-ALLDAYEVENT:FALSE
SUMMARY:Gibby's Wine Den ~ Fridays@5
DESCRIPTION:Call your friends and meet at Gibby's Wine Bar tonight to enjoy a great Friday night with live musicfrom "Dave's Not Here"!  Share nibbles from the Tidbits menu and maybe try a new wine at the bar!Fridays are fun at Gibby's!
X-ALT-DESC;FMTTYPE=text/html:Call your friends and meet at Gibby's Wine Bar tonight to enjoy a great Friday night with live musicfrom "Dave's Not Here"!  Share nibbles from the Tidbits menu and maybe try a new wine at the bar!Fridays are fun at Gibby's!
LOCATION:Gibby's Wine Den
UID:e.1902.254
SEQUENCE:3
DTSTAMP:20260423T104931Z
URL:https://business.bataviachamber.org/events/details/gibby-s-wine-den-fridays-5-06-03-2011-254
END:VEVENT

END:VCALENDAR
