BEGIN:VCALENDAR
VERSION:2.0
PRODID:-//ChamberMaster//Event Calendar 2.0//EN
METHOD:PUBLISH
X-PUBLISHED-TTL:P3D
REFRESH-INTERVAL:P3D
CALSCALE:GREGORIAN
BEGIN:VEVENT
DTSTART:20110520T050000Z
DTEND:20110520T050000Z
X-MICROSOFT-CDO-ALLDAYEVENT:FALSE
SUMMARY:Gibby's Wine Den ~ Fridays@5
DESCRIPTION:Gather with friends around Gibby's Wine Bar and enjoy a glass of wine\, a selection from our Tidbitsmenu and the music of local musician\, Denny King. Fridays are fun at Gibby's!
X-ALT-DESC;FMTTYPE=text/html:Gather with friends around Gibby's Wine Bar and enjoy a glass of wine\, a selection from our Tidbitsmenu and the music of local musician\, Denny King. Fridays are fun at Gibby's!\n\n
LOCATION:Gibby's Wine Den
UID:e.1902.236
SEQUENCE:3
DTSTAMP:20260423T122017Z
URL:https://business.bataviachamber.org/events/details/gibby-s-wine-den-fridays-5-05-20-2011-236
END:VEVENT

END:VCALENDAR
