BEGIN:VCALENDAR
VERSION:2.0
PRODID:-//ChamberMaster//Event Calendar 2.0//EN
METHOD:PUBLISH
X-PUBLISHED-TTL:P3D
REFRESH-INTERVAL:P3D
CALSCALE:GREGORIAN
BEGIN:VEVENT
DTSTART:20110429T050000Z
DTEND:20110429T050000Z
X-MICROSOFT-CDO-ALLDAYEVENT:FALSE
SUMMARY:Gibby's Wine Den ~ Fridays@5
DESCRIPTION:Gather with friends around Gibby's Wine Bar tonight and enjoy the sounds of local musician\, James Schlicher. Relax with a glass from our bar menu and Tasty Tidbits or share a bottle with a group.
X-ALT-DESC;FMTTYPE=text/html:Gather with friends around Gibby's Wine Bar tonight and enjoy the sounds of local musician\, James Schlicher. Relax with a glass from our bar menu and Tasty Tidbits or share a bottle with a group.
LOCATION:Gibby's Wine Den
UID:e.1902.194
SEQUENCE:3
DTSTAMP:20260423T135128Z
URL:https://business.bataviachamber.org/events/details/gibby-s-wine-den-fridays-5-04-29-2011-194
END:VEVENT

END:VCALENDAR
