BEGIN:VCALENDAR
VERSION:2.0
PRODID:-//ChamberMaster//Event Calendar 2.0//EN
METHOD:PUBLISH
X-PUBLISHED-TTL:P3D
REFRESH-INTERVAL:P3D
CALSCALE:GREGORIAN
BEGIN:VEVENT
DTSTART:20100423T050000Z
DTEND:20100423T050000Z
X-MICROSOFT-CDO-ALLDAYEVENT:FALSE
SUMMARY:Gibby's Wine Den ~ Fridays@5
DESCRIPTION:Call your friends and meet them at Gibby's Wine Bar tonight!  A great night is in store for you withlive entertainment from "The Reiki Troubadour"\, wines by the glass and bites from the Tidbits menu.Remember\, the music starts at 6\, but Gibby's Wine Bar is always uncorked!  Meet you there!
X-ALT-DESC;FMTTYPE=text/html:Call your friends and meet them at Gibby's Wine Bar tonight!  A great night is in store for you withlive entertainment from "The Reiki Troubadour"\, wines by the glass and bites from the Tidbits menu.Remember\, the music starts at 6\, but Gibby's Wine Bar is always uncorked!  Meet you there!
LOCATION:Gibby's Wine Den
UID:e.1902.1144
SEQUENCE:3
DTSTAMP:20260424T110246Z
URL:https://business.bataviachamber.org/events/details/gibby-s-wine-den-fridays-5-04-23-2010-1144
END:VEVENT

END:VCALENDAR
