BEGIN:VCALENDAR
VERSION:2.0
PRODID:-//ChamberMaster//Event Calendar 2.0//EN
METHOD:PUBLISH
X-PUBLISHED-TTL:P3D
REFRESH-INTERVAL:P3D
CALSCALE:GREGORIAN
BEGIN:VEVENT
DTSTART:20100416T050000Z
DTEND:20100416T050000Z
X-MICROSOFT-CDO-ALLDAYEVENT:FALSE
SUMMARY:Gibby's Wine Den ~ Fridays@5
DESCRIPTION:Gibby's Wine Bar is a great place to spend your Friday evening!  With live music from "Random Acts of Jazz"\, great wines by the glass and delicious selections from the Tibbits menu make for a fabulousFriday!  Grab some friends and meet us there!
X-ALT-DESC;FMTTYPE=text/html:Gibby's Wine Bar is a great place to spend your Friday evening!  With live music from "Random Acts of Jazz"\, great wines by the glass and delicious selections from the Tibbits menu make for a fabulousFriday!  Grab some friends and meet us there!\n
LOCATION:Gibby's Wine Den
UID:e.1902.1141
SEQUENCE:3
DTSTAMP:20260424T110151Z
URL:https://business.bataviachamber.org/events/details/gibby-s-wine-den-fridays-5-04-16-2010-1141
END:VEVENT

END:VCALENDAR
