BEGIN:VCALENDAR
VERSION:2.0
PRODID:-//ChamberMaster//Event Calendar 2.0//EN
METHOD:PUBLISH
X-PUBLISHED-TTL:P3D
REFRESH-INTERVAL:P3D
CALSCALE:GREGORIAN
BEGIN:VEVENT
DTSTART:20110401T050000Z
DTEND:20110401T050000Z
X-MICROSOFT-CDO-ALLDAYEVENT:FALSE
SUMMARY:Gibby's Wine Den ~ Fridays@5
DESCRIPTION:Gather with friends around Gibby's Wine Bar and enjoy the sounds of local musicians\, Pederson Players. Relax with a glass from our Wine Bar menu and Tasty Tidbits or share a bottle with a group. Tonight we also have a Twilight Tasting\, where for just $2\, you can try some new wines\, chat with the distributor and maybe find a new favorite!
X-ALT-DESC;FMTTYPE=text/html:Gather with friends around Gibby's Wine Bar and enjoy the sounds of local musicians\, Pederson Players. Relax with a glass from our Wine Bar menu and Tasty Tidbits or share a bottle with a group. Tonight we also have a Twilight Tasting\, where for just $2\, you can try some new wines\, chat with the distributor and maybe find a new favorite!
LOCATION:Gibby's Wine Den
UID:e.1902.187
SEQUENCE:3
DTSTAMP:20260423T135128Z
URL:https://business.bataviachamber.org/events/details/gibby-s-wine-den-fridays-5-04-01-2011-187
END:VEVENT

END:VCALENDAR
