BEGIN:VCALENDAR
VERSION:2.0
PRODID:-//ChamberMaster//Event Calendar 2.0//EN
METHOD:PUBLISH
X-PUBLISHED-TTL:P3D
REFRESH-INTERVAL:P3D
CALSCALE:GREGORIAN
BEGIN:VEVENT
DTSTART:20120330T050000Z
DTEND:20120330T050000Z
X-MICROSOFT-CDO-ALLDAYEVENT:FALSE
SUMMARY:Gibby's Wine Den ~ Fridays@5
DESCRIPTION:Meet your friends at Gibby's tonight and catch up after a long week.  We'll have wines by the glass\,nibbles from the Tidbits menu and live entertainment by "Dave's Not Here".
X-ALT-DESC;FMTTYPE=text/html:Meet your friends at Gibby's tonight and catch up after a long week.  We'll have wines by the glass\,nibbles from the Tidbits menu and live entertainment by "Dave's Not Here".
LOCATION:Gibby's Wine Den
UID:e.1902.523
SEQUENCE:3
DTSTAMP:20260422T183640Z
URL:https://business.bataviachamber.org/events/details/gibby-s-wine-den-fridays-5-03-30-2012-523
END:VEVENT

END:VCALENDAR
