BEGIN:VCALENDAR
VERSION:2.0
PRODID:-//ChamberMaster//Event Calendar 2.0//EN
METHOD:PUBLISH
X-PUBLISHED-TTL:P3D
REFRESH-INTERVAL:P3D
CALSCALE:GREGORIAN
BEGIN:VEVENT
DTSTART:20100326T050000Z
DTEND:20100326T050000Z
X-MICROSOFT-CDO-ALLDAYEVENT:FALSE
SUMMARY:Gibby's Wine Den ~ Fridays@5
DESCRIPTION:Fridays at Gibby's Wine Bar is a great place to meet after a long week with co-workers\, to catch upwith friends or to relax with two!  Enjoy live entertaiment from "Red Tie Trio"\, wines by the glassand selections from the Tidbits menu.
X-ALT-DESC;FMTTYPE=text/html:Fridays at Gibby's Wine Bar is a great place to meet after a long week with co-workers\, to catch upwith friends or to relax with two!  Enjoy live entertaiment from "Red Tie Trio"\, wines by the glassand selections from the Tidbits menu.\n
LOCATION:Gibby's Wine Den
UID:e.1902.1135
SEQUENCE:3
DTSTAMP:20260424T125632Z
URL:https://business.bataviachamber.org/events/details/gibby-s-wine-den-fridays-5-03-26-2010-1135
END:VEVENT

END:VCALENDAR
