BEGIN:VCALENDAR
VERSION:2.0
PRODID:-//ChamberMaster//Event Calendar 2.0//EN
METHOD:PUBLISH
X-PUBLISHED-TTL:P3D
REFRESH-INTERVAL:P3D
CALSCALE:GREGORIAN
BEGIN:VEVENT
DTSTART:20110325T050000Z
DTEND:20110325T050000Z
X-MICROSOFT-CDO-ALLDAYEVENT:FALSE
SUMMARY:Gibby's Wine Den ~ Fridays@5
DESCRIPTION:Meet your friends at the Wine Bar tonight to celebrate the end of a long week!  Enjoy March's Art ByThe Glass exhibit while sipping delicious wines by the glass.
X-ALT-DESC;FMTTYPE=text/html:Meet your friends at the Wine Bar tonight to celebrate the end of a long week!  Enjoy March's Art ByThe Glass exhibit while sipping delicious wines by the glass.
LOCATION:Gibby's Wine Den
UID:e.1902.178
SEQUENCE:3
DTSTAMP:20260423T153357Z
URL:https://business.bataviachamber.org/events/details/gibby-s-wine-den-fridays-5-03-25-2011-178
END:VEVENT

END:VCALENDAR
