BEGIN:VCALENDAR
VERSION:2.0
PRODID:-//ChamberMaster//Event Calendar 2.0//EN
METHOD:PUBLISH
X-PUBLISHED-TTL:P3D
REFRESH-INTERVAL:P3D
CALSCALE:GREGORIAN
BEGIN:VEVENT
DTSTART:20120323T050000Z
DTEND:20120323T050000Z
X-MICROSOFT-CDO-ALLDAYEVENT:FALSE
SUMMARY:Gibby's Wine Den ~ Fridays@5
DESCRIPTION:Come to Gibby's tonight to relax after a long week!  Enjoy wines by the glass while listening to live entertainment from "Sam and Rachael String Duo".
X-ALT-DESC;FMTTYPE=text/html:Come to Gibby's tonight to relax after a long week!  Enjoy wines by the glass while listening to live entertainment from "Sam and Rachael String Duo".
LOCATION:Gibby's Wine Den
UID:e.1902.522
SEQUENCE:3
DTSTAMP:20260422T232922Z
URL:https://business.bataviachamber.org/events/details/gibby-s-wine-den-fridays-5-03-23-2012-522
END:VEVENT

END:VCALENDAR
