BEGIN:VCALENDAR
VERSION:2.0
PRODID:-//ChamberMaster//Event Calendar 2.0//EN
METHOD:PUBLISH
X-PUBLISHED-TTL:P3D
REFRESH-INTERVAL:P3D
CALSCALE:GREGORIAN
BEGIN:VEVENT
DTSTART:20100319T050000Z
DTEND:20100319T050000Z
X-MICROSOFT-CDO-ALLDAYEVENT:FALSE
SUMMARY:Gibby's Wine Den ~ Fridays@5
DESCRIPTION:Come to Gibby's tonight for live music from "The Mockturtlenecks"\,  wine by the glass and delicioustreats from the Tidbits menu.  It's a great place to relax\, catch up with friends or enjoy a night for two!
X-ALT-DESC;FMTTYPE=text/html:Come to Gibby's tonight for live music from "The Mockturtlenecks"\,  wine by the glass and delicioustreats from the Tidbits menu.  It's a great place to relax\, catch up with friends or enjoy a night for two! \n
LOCATION:www.gibbys-wine.com
UID:e.1902.1134
SEQUENCE:3
DTSTAMP:20260424T125732Z
URL:https://business.bataviachamber.org/events/details/gibby-s-wine-den-fridays-5-03-19-2010-1134
END:VEVENT

END:VCALENDAR
