BEGIN:VCALENDAR
VERSION:2.0
PRODID:-//ChamberMaster//Event Calendar 2.0//EN
METHOD:PUBLISH
X-PUBLISHED-TTL:P3D
REFRESH-INTERVAL:P3D
CALSCALE:GREGORIAN
BEGIN:VEVENT
DTSTART:20110318T050000Z
DTEND:20110318T050000Z
X-MICROSOFT-CDO-ALLDAYEVENT:FALSE
SUMMARY:Gibby's Wine Den ~ Fridays@5
DESCRIPTION:While relaxing with a glass of wine around Gibby's Wine Bar this evening\, enjoy the sounds of localmusicians\, "Dave's Not Here". Also on display\, is the exhibit from our March Art By the Glass artist\, Mike Skoflanc. Gibby's is a great place to be on Friday night!
X-ALT-DESC;FMTTYPE=text/html:While relaxing with a glass of wine around Gibby's Wine Bar this evening\, enjoy the sounds of localmusicians\, "Dave's Not Here". Also on display\, is the exhibit from our March Art By the Glass artist\, Mike Skoflanc. Gibby's is a great place to be on Friday night!\n\n
LOCATION:Gibby's Wine Den
UID:e.1902.173
SEQUENCE:3
DTSTAMP:20260423T172133Z
URL:https://business.bataviachamber.org/events/details/gibby-s-wine-den-fridays-5-03-18-2011-173
END:VEVENT

END:VCALENDAR
