BEGIN:VCALENDAR
VERSION:2.0
PRODID:-//ChamberMaster//Event Calendar 2.0//EN
METHOD:PUBLISH
X-PUBLISHED-TTL:P3D
REFRESH-INTERVAL:P3D
CALSCALE:GREGORIAN
BEGIN:VEVENT
DTSTART:20120316T050000Z
DTEND:20120316T050000Z
X-MICROSOFT-CDO-ALLDAYEVENT:FALSE
SUMMARY:Gibby's Wine Den ~ Fridays@5
DESCRIPTION:Relax after your long week tonight at Gibby's!  Meet your friends and enjoy wines by the glass and selections from the Tidbits menu.  We have live entertainment from James Schlicher and our "Art By The Glass" exhibit.
X-ALT-DESC;FMTTYPE=text/html:Relax after your long week tonight at Gibby's!  Meet your friends and enjoy wines by the glass and selections from the Tidbits menu.  We have live entertainment from James Schlicher and our "Art By The Glass" exhibit.
LOCATION:Gibby's Wine Den
UID:e.1902.521
SEQUENCE:3
DTSTAMP:20260422T183527Z
URL:https://business.bataviachamber.org/events/details/gibby-s-wine-den-fridays-5-03-16-2012-521
END:VEVENT

END:VCALENDAR
