BEGIN:VCALENDAR
VERSION:2.0
PRODID:-//ChamberMaster//Event Calendar 2.0//EN
METHOD:PUBLISH
X-PUBLISHED-TTL:P3D
REFRESH-INTERVAL:P3D
CALSCALE:GREGORIAN
BEGIN:VEVENT
DTSTART:20090306T060000Z
DTEND:20090306T060000Z
X-MICROSOFT-CDO-ALLDAYEVENT:FALSE
SUMMARY:Gibby's Wine Den ~ Fridays@5
DESCRIPTION:Join us around the bar at Gibby's for a wonderful evening featuring wine by the glass\, delicious small plates and live entertainment by Red Tie Trio.  Not to mention the fabulous company!  See you there!
X-ALT-DESC;FMTTYPE=text/html:Join us around the bar at Gibby's for a wonderful evening featuring wine by the glass\, delicious small plates and live entertainment by Red Tie Trio.  Not to mention the fabulous company!  See you there!
LOCATION:Gibby's Wine Den
UID:e.1902.876
SEQUENCE:3
DTSTAMP:20260425T111555Z
URL:https://business.bataviachamber.org/events/details/gibby-s-wine-den-fridays-5-03-06-2009-876
END:VEVENT

END:VCALENDAR
