BEGIN:VCALENDAR
VERSION:2.0
PRODID:-//ChamberMaster//Event Calendar 2.0//EN
METHOD:PUBLISH
X-PUBLISHED-TTL:P3D
REFRESH-INTERVAL:P3D
CALSCALE:GREGORIAN
BEGIN:VEVENT
DTSTART:20110225T060000Z
DTEND:20110225T060000Z
X-MICROSOFT-CDO-ALLDAYEVENT:FALSE
SUMMARY:Gibby's Wine Den ~ Fridays@5
DESCRIPTION:While relaxing with a glass of wine around Gibby's Wine Bar this evening\, enjoy the sounds of localmusician\, James Schlicher.
X-ALT-DESC;FMTTYPE=text/html:While relaxing with a glass of wine around Gibby's Wine Bar this evening\, enjoy the sounds of localmusician\, James Schlicher.
LOCATION:Gibby's Wine Den
UID:e.1902.138
SEQUENCE:3
DTSTAMP:20260423T170119Z
URL:https://business.bataviachamber.org/events/details/gibby-s-wine-den-fridays-5-02-25-2011-138
END:VEVENT

END:VCALENDAR
