BEGIN:VCALENDAR
VERSION:2.0
PRODID:-//ChamberMaster//Event Calendar 2.0//EN
METHOD:PUBLISH
X-PUBLISHED-TTL:P3D
REFRESH-INTERVAL:P3D
CALSCALE:GREGORIAN
BEGIN:VEVENT
DTSTART:20100219T060000Z
DTEND:20100219T060000Z
X-MICROSOFT-CDO-ALLDAYEVENT:FALSE
SUMMARY:Gibby's Wine Den ~ Fridays@5
DESCRIPTION:Come to Gibby's tonight for a great night with live musical entertainment from The Pedersen Players\,wines  by the glass and delicious small plates from our Tidbits Menu.  It's a great place to relaxafter a busy work week!
X-ALT-DESC;FMTTYPE=text/html:Come to Gibby's tonight for a great night with live musical entertainment from The Pedersen Players\,wines  by the glass and delicious small plates from our Tidbits Menu.  It's a great place to relaxafter a busy work week! \n
LOCATION:Gibby's Wine Den
UID:e.1902.1095
SEQUENCE:3
DTSTAMP:20260424T143628Z
URL:https://business.bataviachamber.org/events/details/gibby-s-wine-den-fridays-5-02-19-2010-1095
END:VEVENT

END:VCALENDAR
